BEGIN:VCALENDAR
PRODID:Appointment
CALSCALE:GREGORIAN
VERSION:2.0
BEGIN:VEVENT
DTSTAMP:20260421T091911Z
DTSTART;VALUE=DATE:20260610
DTEND;VALUE=DATE:20260611
SUMMARY:Betriebsrät*innen Empfang
UID:edadc456-f78f-47ef-bfcb-b64a9cb2f700
DESCRIPTION:Ort und genaue Uhrzeit wird zeitnah vor der Veranstaltung bek
 annt gegeben
END:VEVENT
END:VCALENDAR
