BEGIN:VCALENDAR
PRODID:Appointment
CALSCALE:GREGORIAN
VERSION:2.0
BEGIN:VEVENT
DTSTAMP:20260421T091500Z
DTSTART;VALUE=DATE:20261013
DTEND;VALUE=DATE:20261014
SUMMARY:Arbeitskreis Betriebsräte
UID:eb2a76e8-d952-4352-aaea-20bc75e8f7df
DESCRIPTION:Arbeitskreis Betriebsräte
END:VEVENT
END:VCALENDAR
