BEGIN:VCALENDAR
PRODID:Appointment
CALSCALE:GREGORIAN
VERSION:2.0
BEGIN:VEVENT
DTSTAMP:20260421T091945Z
DTSTART;VALUE=DATE:20261105
DTEND;VALUE=DATE:20261106
SUMMARY:Arbeitskreis ERA
UID:cc91867d-9604-4a49-9409-827e1d6603ef
DESCRIPTION:Ort und genaue Uhrzeit wird zeitnah vor der Veranstaltung bek
 annt gegeben
END:VEVENT
END:VCALENDAR
