BEGIN:VCALENDAR
PRODID:Appointment
CALSCALE:GREGORIAN
VERSION:2.0
BEGIN:VEVENT
DTSTAMP:20260421T091837Z
DTSTART;VALUE=DATE:20260921
DTEND;VALUE=DATE:20260924
SUMMARY:Überblick (für BR-Mitglieder)
UID:cb96d15d-7da5-459b-86fc-46919ab93b1c
END:VEVENT
END:VCALENDAR
