BEGIN:VCALENDAR
PRODID:Appointment
CALSCALE:GREGORIAN
VERSION:2.0
BEGIN:VEVENT
DTSTAMP:20260421T091923Z
DTSTART;VALUE=DATE:20260909
DTEND;VALUE=DATE:20260910
SUMMARY:JAV Konferenz
UID:bf3d86b9-54f4-4411-90ae-9dd733a95a18
DESCRIPTION:Ort und genaue Uhrzeit wird zeitnah vor der Veranstaltung bek
 annt gegeben
LOCATION:n.n.
END:VEVENT
END:VCALENDAR
