BEGIN:VCALENDAR
PRODID:Appointment
CALSCALE:GREGORIAN
VERSION:2.0
BEGIN:VEVENT
DTSTAMP:20260421T091723Z
DTSTART;VALUE=DATE:20260617
DTEND;VALUE=DATE:20260619
SUMMARY:Wahlvorstandsschulung Jugend- und Auszubildendenvertretung
UID:b8c76d19-c1ad-47cd-8748-45365f3bccd2
END:VEVENT
END:VCALENDAR
