BEGIN:VCALENDAR
PRODID:Appointment
CALSCALE:GREGORIAN
VERSION:2.0
BEGIN:VEVENT
DTSTAMP:20260421T092057Z
DTSTART;VALUE=DATE:20260521
DTEND;VALUE=DATE:20260522
SUMMARY:Arbeitskreis ERA
UID:aa5f3426-7829-4ae7-9ab7-b26035647903
DESCRIPTION:Ort und genaue Uhrzeit wird zeitnah vor der Veranstaltung bek
 annt gegeben
END:VEVENT
END:VCALENDAR
