BEGIN:VCALENDAR
PRODID:Appointment
CALSCALE:GREGORIAN
VERSION:2.0
BEGIN:VEVENT
DTSTAMP:20260421T091551Z
DTSTART;VALUE=DATE:20261020
DTEND;VALUE=DATE:20261021
SUMMARY:Arbeitskreis Schwerbehindertenvertreter und Arbeits- und Gesundhe
 itsschutz
UID:8fe2f2bb-af48-40a6-a627-bd23b7cb4a6d
DESCRIPTION:Ort und genaue Uhrzeit wird zeitnah vor der Veranstaltung bek
 annt gegeben
END:VEVENT
END:VCALENDAR
