BEGIN:VCALENDAR
PRODID:Appointment
CALSCALE:GREGORIAN
VERSION:2.0
BEGIN:VEVENT
DTSTAMP:20260421T091425Z
DTSTART;VALUE=DATE:20261207
DTEND;VALUE=DATE:20261208
SUMMARY:Arbeitskreis Bildung
UID:821befa5-4e59-4ef3-83ae-e60748b878b3
DESCRIPTION:Ort und genaue Uhrzeit wird zeitnah vor der Veranstaltung bek
 annt gegeben
END:VEVENT
END:VCALENDAR
