BEGIN:VCALENDAR
PRODID:Appointment
CALSCALE:GREGORIAN
VERSION:2.0
BEGIN:VEVENT
DTSTAMP:20260421T091912Z
DTSTART;VALUE=DATE:20260930
DTEND;VALUE=DATE:20261001
SUMMARY:Delegiertenversammlung im September
UID:6acc1228-025d-41a2-8b43-ce046a930c7e
DESCRIPTION:Ort und genaue Uhrzeit wird zeitnah vor der Veranstaltung bek
 annt gegeben
LOCATION:n.n.
END:VEVENT
END:VCALENDAR
