BEGIN:VCALENDAR
PRODID:Appointment
CALSCALE:GREGORIAN
VERSION:2.0
BEGIN:VEVENT
DTSTAMP:20260421T091750Z
DTSTART;VALUE=DATE:20260630
DTEND;VALUE=DATE:20260701
SUMMARY:Delegiertenversammlung im Juni
UID:60ffc236-19d7-4bc1-8700-9daa9355e3c9
DESCRIPTION:Ort und genaue Uhrzeit wird zeitnah vor der Veranstaltung bek
 annt gegeben
LOCATION:n.n.
END:VEVENT
END:VCALENDAR
