BEGIN:VCALENDAR
PRODID:Appointment
CALSCALE:GREGORIAN
VERSION:2.0
BEGIN:VEVENT
DTSTAMP:20260421T091602Z
DTSTART;VALUE=DATE:20261207
DTEND;VALUE=DATE:20261212
SUMMARY:Überblick (für PK-Mitglieder)
UID:5b3a9ffa-06e7-44ed-93a2-3377d01b97a9
END:VEVENT
END:VCALENDAR
