BEGIN:VCALENDAR
PRODID:Appointment
CALSCALE:GREGORIAN
VERSION:2.0
BEGIN:VEVENT
DTSTAMP:20260421T091944Z
DTSTART;VALUE=DATE:20260610
DTEND;VALUE=DATE:20260611
SUMMARY:Wahlvorstandsschulung Schwerbehindertenvertretung
UID:30a86254-04a3-4583-8847-8d4cc602f40a
END:VEVENT
END:VCALENDAR
