BEGIN:VCALENDAR
PRODID:Appointment
CALSCALE:GREGORIAN
VERSION:2.0
BEGIN:VEVENT
DTSTAMP:20260421T105317Z
DTSTART;VALUE=DATE:20261014
DTEND;VALUE=DATE:20261015
SUMMARY:Mitgliederinfoabend 55+
UID:2f73e946-0680-48bd-98a1-9560eb1dd7d6
DESCRIPTION:Ort und genaue Uhrzeit wird zeitnah vor der Veranstaltung bek
 annt gegeben
END:VEVENT
END:VCALENDAR
