BEGIN:VCALENDAR
PRODID:Appointment
CALSCALE:GREGORIAN
VERSION:2.0
BEGIN:VEVENT
DTSTAMP:20260421T092057Z
DTSTART;VALUE=DATE:20260714
DTEND;VALUE=DATE:20260715
SUMMARY:Arbeitskreis Jugend- und Auszubildendenvertretung
UID:2a66c560-87fd-4d42-a225-aad496286c99
DESCRIPTION:Ort und genaue Uhrzeit wird zeitnah vor der Veranstaltung bek
 annt gegeben
END:VEVENT
END:VCALENDAR
