BEGIN:VCALENDAR
PRODID:Appointment
CALSCALE:GREGORIAN
VERSION:2.0
BEGIN:VEVENT
DTSTAMP:20260421T091431Z
DTSTART;VALUE=DATE:20261202
DTEND;VALUE=DATE:20261203
SUMMARY:Delegiertenversammlung im Dezember
UID:261ed4ce-45b2-4e9d-ac9c-34729775ccf3
DESCRIPTION:Ort und genaue Uhrzeit wird zeitnah vor der Veranstaltung bek
 annt gegeben
LOCATION:n.n.
END:VEVENT
END:VCALENDAR
