BEGIN:VCALENDAR
PRODID:Appointment
CALSCALE:GREGORIAN
VERSION:2.0
BEGIN:VEVENT
DTSTAMP:20260421T092025Z
DTSTART;VALUE=DATE:20260916
DTEND;VALUE=DATE:20260917
SUMMARY:Wahlvorstandsschulung Jugend- und Auszubildendenvertretung
UID:0533c901-177c-4fbc-8a41-9dcae005a89b
END:VEVENT
END:VCALENDAR
